BEGIN:VCALENDAR
VERSION:2.0
PRODID:-//hacksw/handcal//NONSGML v1.0//EN
BEGIN:VEVENT
SUMMARY:DDJ 3 - Maison Laffitte (Exterieur)
UID:511ab87b-8f12-46bb-b477-d9e93b0bb8bc
DTSTART:20260411T220000Z
DTEND:20260412T220000Z
LOCATION:Localisation   
CATEGORIES:Sportif
STATUS:
URL;VALUE=URI:https://archerulyssestgermain.sportsregions.fr/evenements/2026/04/12/ddj-3-maison-laffitte-exterieur-2440738
END:VEVENT
END:VCALENDAR
