BEGIN:VCALENDAR
VERSION:2.0
PRODID:-//hacksw/handcal//NONSGML v1.0//EN
BEGIN:VEVENT
SUMMARY:DDA 2 - Villiers St Frederic (Exterieur)
UID:843f5a13-e5f5-4307-a6c8-e15bc80af50d
DTSTART:20260411T220000Z
DTEND:20260412T220000Z
LOCATION:Localisation   
CATEGORIES:Sportif
STATUS:
URL;VALUE=URI:https://archerulyssestgermain.sportsregions.fr/evenements/2026/04/12/dda-2-villiers-st-frederic-exterieur-2373861
END:VEVENT
END:VCALENDAR
