BEGIN:VCALENDAR
VERSION:2.0
PRODID:-//hacksw/handcal//NONSGML v1.0//EN
BEGIN:VEVENT
SUMMARY:Challenge des P'tits Bouts - Chevilly Larue
UID:180069bb-14b5-4240-92aa-69fb2cdb1064
DTSTART:20260410T220000Z
DTEND:20260411T220000Z
LOCATION:Localisation   
CATEGORIES:Sportif
STATUS:
URL;VALUE=URI:https://archerulyssestgermain.sportsregions.fr/evenements/2026/04/11/challenge-des-ptits-bouts-chevilly-larue-2440737
END:VEVENT
END:VCALENDAR
