BEGIN:VCALENDAR
VERSION:2.0
PRODID:-//hacksw/handcal//NONSGML v1.0//EN
BEGIN:VEVENT
SUMMARY:Animation Rallye
UID:2730f654-c7ef-4b66-bb6c-2c6ff5a1fb42
DTSTART:20260313T230000Z
DTEND:20260314T230000Z
LOCATION:Localisation   
CATEGORIES:Manifestation
STATUS:
URL;VALUE=URI:https://archerulyssestgermain.sportsregions.fr/evenements/2026/03/14/animation-rallye-2435805
END:VEVENT
END:VCALENDAR
